
BEGIN:VCALENDAR
VERSION:2.0
PRODID:-//SBVCDS - ECPv6.15.20//NONSGML v1.0//EN
CALSCALE:GREGORIAN
METHOD:PUBLISH
X-WR-CALNAME:SBVCDS
X-ORIGINAL-URL:https://sbvcds.org
X-WR-CALDESC:Events for SBVCDS
REFRESH-INTERVAL;VALUE=DURATION:PT1H
X-Robots-Tag:noindex
X-PUBLISHED-TTL:PT1H
BEGIN:VTIMEZONE
TZID:America/Los_Angeles
BEGIN:DAYLIGHT
TZOFFSETFROM:-0800
TZOFFSETTO:-0700
TZNAME:PDT
DTSTART:20230312T100000
END:DAYLIGHT
BEGIN:STANDARD
TZOFFSETFROM:-0700
TZOFFSETTO:-0800
TZNAME:PST
DTSTART:20231105T090000
END:STANDARD
BEGIN:DAYLIGHT
TZOFFSETFROM:-0800
TZOFFSETTO:-0700
TZNAME:PDT
DTSTART:20240310T100000
END:DAYLIGHT
BEGIN:STANDARD
TZOFFSETFROM:-0700
TZOFFSETTO:-0800
TZNAME:PST
DTSTART:20241103T090000
END:STANDARD
BEGIN:DAYLIGHT
TZOFFSETFROM:-0800
TZOFFSETTO:-0700
TZNAME:PDT
DTSTART:20250309T100000
END:DAYLIGHT
BEGIN:STANDARD
TZOFFSETFROM:-0700
TZOFFSETTO:-0800
TZNAME:PST
DTSTART:20251102T090000
END:STANDARD
BEGIN:DAYLIGHT
TZOFFSETFROM:-0800
TZOFFSETTO:-0700
TZNAME:PDT
DTSTART:20260308T100000
END:DAYLIGHT
BEGIN:STANDARD
TZOFFSETFROM:-0700
TZOFFSETTO:-0800
TZNAME:PST
DTSTART:20261101T090000
END:STANDARD
END:VTIMEZONE
BEGIN:VEVENT
DTSTART;TZID=America/Los_Angeles:20241120T180000
DTEND;TZID=America/Los_Angeles:20241120T220000
DTSTAMP:20260419T184223
CREATED:20240130T214355Z
LAST-MODIFIED:20240209T232019Z
UID:2064-1732125600-1732140000@sbvcds.org
SUMMARY:*Radiology Safety Certification
DESCRIPTION:Radiology Safety Certification Obtain your x-ray license in just a couple of steps!\n*This Course is available on year round basis not just the date stated. Please call for more information.
URL:https://sbvcds.org/event/radiology-safety-certification/2024-11-20/
ATTACH;FMTTYPE=image/png:https://sbvcds.org/wp-content/uploads/2024/01/RADIOLOGY-CERTIFICATION-FLYER-e1706650960215.png
END:VEVENT
BEGIN:VEVENT
DTSTART;TZID=America/Los_Angeles:20241204T180000
DTEND;TZID=America/Los_Angeles:20241204T220000
DTSTAMP:20260419T184223
CREATED:20240130T214355Z
LAST-MODIFIED:20240209T232020Z
UID:2065-1733335200-1733349600@sbvcds.org
SUMMARY:*Radiology Safety Certification
DESCRIPTION:Radiology Safety Certification Obtain your x-ray license in just a couple of steps!\n*This Course is available on year round basis not just the date stated. Please call for more information.
URL:https://sbvcds.org/event/radiology-safety-certification/2024-12-04/
ATTACH;FMTTYPE=image/png:https://sbvcds.org/wp-content/uploads/2024/01/RADIOLOGY-CERTIFICATION-FLYER-e1706650960215.png
END:VEVENT
BEGIN:VEVENT
DTSTART;TZID=America/Los_Angeles:20241218T180000
DTEND;TZID=America/Los_Angeles:20241218T220000
DTSTAMP:20260419T184223
CREATED:20240130T214355Z
LAST-MODIFIED:20240209T232021Z
UID:2066-1734544800-1734559200@sbvcds.org
SUMMARY:*Radiology Safety Certification
DESCRIPTION:Radiology Safety Certification Obtain your x-ray license in just a couple of steps!\n*This Course is available on year round basis not just the date stated. Please call for more information.
URL:https://sbvcds.org/event/radiology-safety-certification/2024-12-18/
ATTACH;FMTTYPE=image/png:https://sbvcds.org/wp-content/uploads/2024/01/RADIOLOGY-CERTIFICATION-FLYER-e1706650960215.png
END:VEVENT
BEGIN:VEVENT
DTSTART;VALUE=DATE:20250125
DTEND;VALUE=DATE:20250126
DTSTAMP:20260419T184223
CREATED:20241125T194935Z
LAST-MODIFIED:20241216T224014Z
UID:8821-1737763200-1737849599@sbvcds.org
SUMMARY:Learn at the SB Zoo with CDA
DESCRIPTION:Click the Link Below to sign up:\nNow + Next Events
URL:https://sbvcds.org/event/learn-at-the-sb-zoo-with-cda/
ATTACH;FMTTYPE=image/png:https://sbvcds.org/wp-content/uploads/2024/11/SB_Z00_Jan-2025.png
END:VEVENT
BEGIN:VEVENT
DTSTART;TZID=America/Los_Angeles:20250206T180000
DTEND;TZID=America/Los_Angeles:20250206T200000
DTSTAMP:20260419T184223
CREATED:20241125T200203Z
LAST-MODIFIED:20241216T223827Z
UID:8823-1738864800-1738872000@sbvcds.org
SUMMARY:A Systematic Approach to Case Selection and Treatment Planning for Maximizing Treatment Success with Clear Aligner Therapy
DESCRIPTION:Sign up by clicking one of the options below:\nMember $75\nNonMember $100
URL:https://sbvcds.org/event/an-evening-with-dr-costanza-ortho/
LOCATION:Casa Agria Specialty Ales\, 701 N. Del Norte Blvd.\, #360\, Oxnard\, CA\, 93030\, United States
ATTACH;FMTTYPE=image/png:https://sbvcds.org/wp-content/uploads/2024/11/2025-Cory-Costanzo-1.png
END:VEVENT
BEGIN:VEVENT
DTSTART;TZID=America/Los_Angeles:20250417T180000
DTEND;TZID=America/Los_Angeles:20250417T200000
DTSTAMP:20260419T184223
CREATED:20241125T200346Z
LAST-MODIFIED:20250409T211848Z
UID:8825-1744912800-1744920000@sbvcds.org
SUMMARY:Dental Implants & Maintenance for the Dentist and the Team!
DESCRIPTION:Sign up by clicking one of the options below:\nMember $75\nHygienist $50\nHygiene Student $20\nNonMember $100
URL:https://sbvcds.org/event/an-evening-with-dr-sahl-perio/
ATTACH;FMTTYPE=image/png:https://sbvcds.org/wp-content/uploads/2025/04/Dr.-Sahl-Sold-Out-update.png
END:VEVENT
BEGIN:VEVENT
DTSTART;TZID=America/Los_Angeles:20250425T180000
DTEND;TZID=America/Los_Angeles:20250425T220000
DTSTAMP:20260419T184223
CREATED:20241125T200625Z
LAST-MODIFIED:20250401T181655Z
UID:8827-1745604000-1745618400@sbvcds.org
SUMMARY:Hawaiian Theme Dental Prom
DESCRIPTION:SAVE THE DATE!\nCome join your colleagues for FINE DINING\, DANCING & FUN!\nOnline registration and payment link below:\nMember $125
URL:https://sbvcds.org/event/hawaiian-theme-dental-prom/
ATTACH;FMTTYPE=image/png:https://sbvcds.org/wp-content/uploads/2025/04/Blue-and-Pink-Illustrated-Floral-Tropical-Hawaiian-Party-Flyer.png
END:VEVENT
END:VCALENDAR