
BEGIN:VCALENDAR
VERSION:2.0
PRODID:-//SBVCDS - ECPv6.15.20//NONSGML v1.0//EN
CALSCALE:GREGORIAN
METHOD:PUBLISH
X-WR-CALNAME:SBVCDS
X-ORIGINAL-URL:https://sbvcds.org
X-WR-CALDESC:Events for SBVCDS
REFRESH-INTERVAL;VALUE=DURATION:PT1H
X-Robots-Tag:noindex
X-PUBLISHED-TTL:PT1H
BEGIN:VTIMEZONE
TZID:UTC
BEGIN:STANDARD
TZOFFSETFROM:+0000
TZOFFSETTO:+0000
TZNAME:UTC
DTSTART:20220101T000000
END:STANDARD
END:VTIMEZONE
BEGIN:VEVENT
DTSTART;TZID=UTC:20230422T080000
DTEND;TZID=UTC:20230422T170000
DTSTAMP:20260422T021232
CREATED:20230419T194839Z
LAST-MODIFIED:20230419T194839Z
UID:1041-1682150400-1682182800@sbvcds.org
SUMMARY:Calendar Event Title
DESCRIPTION:This is the description for Calendar Event!
URL:https://sbvcds.org/event/calendar-event-title/
ATTACH;FMTTYPE=image/jpeg:https://sbvcds.org/wp-content/uploads/2023/04/iStock-185215925-e1681933710949.jpg
END:VEVENT
END:VCALENDAR