
BEGIN:VCALENDAR
VERSION:2.0
PRODID:-//SBVCDS - ECPv6.15.20//NONSGML v1.0//EN
CALSCALE:GREGORIAN
METHOD:PUBLISH
X-WR-CALNAME:SBVCDS
X-ORIGINAL-URL:https://sbvcds.org
X-WR-CALDESC:Events for SBVCDS
REFRESH-INTERVAL;VALUE=DURATION:PT1H
X-Robots-Tag:noindex
X-PUBLISHED-TTL:PT1H
BEGIN:VTIMEZONE
TZID:America/Los_Angeles
BEGIN:DAYLIGHT
TZOFFSETFROM:-0800
TZOFFSETTO:-0700
TZNAME:PDT
DTSTART:20240310T100000
END:DAYLIGHT
BEGIN:STANDARD
TZOFFSETFROM:-0700
TZOFFSETTO:-0800
TZNAME:PST
DTSTART:20241103T090000
END:STANDARD
BEGIN:DAYLIGHT
TZOFFSETFROM:-0800
TZOFFSETTO:-0700
TZNAME:PDT
DTSTART:20250309T100000
END:DAYLIGHT
BEGIN:STANDARD
TZOFFSETFROM:-0700
TZOFFSETTO:-0800
TZNAME:PST
DTSTART:20251102T090000
END:STANDARD
BEGIN:DAYLIGHT
TZOFFSETFROM:-0800
TZOFFSETTO:-0700
TZNAME:PDT
DTSTART:20260308T100000
END:DAYLIGHT
BEGIN:STANDARD
TZOFFSETFROM:-0700
TZOFFSETTO:-0800
TZNAME:PST
DTSTART:20261101T090000
END:STANDARD
END:VTIMEZONE
BEGIN:VEVENT
DTSTART;TZID=America/Los_Angeles:20250808T090000
DTEND;TZID=America/Los_Angeles:20250808T160000
DTSTAMP:20260421T135909
CREATED:20241125T201352Z
LAST-MODIFIED:20250310T181621Z
UID:8829-1754643600-1754668800@sbvcds.org
SUMMARY:All day course with Dr. Sadowski
DESCRIPTION:Course Description:\nFor the edentulous patient\, fundamental principles of complete denture prosthodontics serve as the basis for differential treatment planning both fixed and removable implant prostheses. Understanding the relevant extraoral and intraoral landmarks to assess where the teeth once were is essential for esthetic\, phonetic and occlusal harmony. How to create an authentic and esthetic arrangement of the anterior teeth will be amplified. Both clinician- and patient-mediated considerations dictate the optimal design of an implant prosthesis. The overdenture\, fixed complete denture and crown and bridge prosthetic designs have different indications and requirements considering the bony architecture\, implant number and array. Various prosthetic materials will be discussed. A digital workflow using a 3D printed polymer will be demonstrated for the interim complete arch fixed implant prosthesis. This course will address evidence-based prognoses of implant survival\, prosthetic stability and maintenance. \nSign up by clicking one of the links below:\nMember $185\nRDH/RDA/DA $100\nNonMember $299
URL:https://sbvcds.org/event/all-day-course-with-dr-sadowski/
ATTACH;FMTTYPE=image/png:https://sbvcds.org/wp-content/uploads/2024/11/Dr.-Sadowsky_update.png
END:VEVENT
END:VCALENDAR